BEGIN:VCALENDAR
VERSION:2.0
PRODID:-//Mongolia - ECPv6.15.9//NONSGML v1.0//EN
CALSCALE:GREGORIAN
METHOD:PUBLISH
X-WR-CALNAME:Mongolia
X-ORIGINAL-URL:https://afs.mn
X-WR-CALDESC:Events for Mongolia
REFRESH-INTERVAL;VALUE=DURATION:PT1H
X-Robots-Tag:noindex
X-PUBLISHED-TTL:PT1H
BEGIN:VTIMEZONE
TZID:Asia/Shanghai
BEGIN:STANDARD
TZOFFSETFROM:+0800
TZOFFSETTO:+0800
TZNAME:CST
DTSTART:20210101T000000
END:STANDARD
END:VTIMEZONE
BEGIN:VEVENT
DTSTART;TZID=Asia/Shanghai:20220607T080000
DTEND;TZID=Asia/Shanghai:20220707T170000
DTSTAMP:20260422T232711
CREATED:20210802T075538Z
LAST-MODIFIED:20210802T075910Z
UID:5754-1654588800-1657213200@afs.mn
SUMMARY:Зуны Дадлагын Хөтөлбөр
DESCRIPTION:
URL:https://afs.mn/event/sip/
LOCATION:Онлайн AFS Өргөдөл\, Mongolia
CATEGORIES:Internship,Шалгаруулалт
ATTACH;FMTTYPE=image/jpeg:https://d22dvihj4pfop3.cloudfront.net/wp-content/uploads/sites/135/2021/07/06162621/AFS-VIVA-OFFICE-2020-SEP-167.jpg
END:VEVENT
END:VCALENDAR